0.500000
0.000000
0.000000
-0.500000
760000.250000
679999.750000
