0.500000
0.000000
0.000000
-0.500000
1015000.250000
699999.750000
