0.500000
0.000000
0.000000
-0.500000
1015000.250000
689999.750000
