0.500000
0.000000
0.000000
-0.500000
1005000.250000
719999.750000
