0.5
0
0
-0.5
1000000.25
734999.75
