0.500000
0.000000
0.000000
-0.500000
1000000.250000
729999.750000
