<metadata xml:lang="en"><Esri><CreaDate>20190128</CreaDate><CreaTime>13380800</CreaTime><ArcGISFormat>1.0</ArcGISFormat><ArcGISstyle>FGDC CSDGM Metadata</ArcGISstyle><SyncOnce>FALSE</SyncOnce><DataProperties><itemProps><imsContentType export="False" Sync="TRUE">002</imsContentType><itemName Sync="TRUE">2018_NCMP_CT_18TXL2444_RGBN.tif</itemName><itemLocation><linkage Sync="TRUE">file://X:\2018_NCMP_EC\products\CT\2018_NCMP_CT_RGBN\Blk_351\2018_NCMP_CT_18TXL2444_RGBN.tif</linkage><protocol Sync="TRUE">Local Area Network</protocol></itemLocation><nativeExtBox><westBL Sync="TRUE">624000.000000</westBL><eastBL Sync="TRUE">625000.000000</eastBL><southBL Sync="TRUE">4544000.000000</southBL><northBL Sync="TRUE">4545000.000000</northBL><exTypeCode Sync="TRUE">1</exTypeCode></nativeExtBox></itemProps><coordRef><type Sync="TRUE">Projected</type><geogcsn Sync="TRUE">GCS_North_American_1983</geogcsn><csUnits Sync="TRUE">Linear Unit: Meter (1.000000)</csUnits><projcsn Sync="TRUE">NAD83_UTM_zone_18N</projcsn><peXml Sync="TRUE">&lt;ProjectedCoordinateSystem xsi:type='typens:ProjectedCoordinateSystem' xmlns:xsi='http://www.w3.org/2001/XMLSchema-instance' xmlns:xs='http://www.w3.org/2001/XMLSchema' xmlns:typens='http://www.esri.com/schemas/ArcGIS/10.1'&gt;&lt;WKT&gt;PROJCS[&amp;quot;NAD83_UTM_zone_18N&amp;quot;,GEOGCS[&amp;quot;GCS_North_American_1983&amp;quot;,DATUM[&amp;quot;D_North_American_1983&amp;quot;,SPHEROID[&amp;quot;GRS_1980&amp;quot;,6378137.0,298.257222101]],PRIMEM[&amp;quot;Greenwich&amp;quot;,0.0],UNIT[&amp;quot;Degree&amp;quot;,0.0174532925199433]],PROJECTION[&amp;quot;Transverse_Mercator&amp;quot;],PARAMETER[&amp;quot;false_easting&amp;quot;,500000.0],PARAMETER[&amp;quot;false_northing&amp;quot;,0.0],PARAMETER[&amp;quot;central_meridian&amp;quot;,-75.0],PARAMETER[&amp;quot;scale_factor&amp;quot;,0.9996],PARAMETER[&amp;quot;latitude_of_origin&amp;quot;,0.0],UNIT[&amp;quot;Meter&amp;quot;,1.0]]&lt;/WKT&gt;&lt;XOrigin&gt;-5120900&lt;/XOrigin&gt;&lt;YOrigin&gt;-9998100&lt;/YOrigin&gt;&lt;XYScale&gt;450445547.3910538&lt;/XYScale&gt;&lt;ZOrigin&gt;-100000&lt;/ZOrigin&gt;&lt;ZScale&gt;10000&lt;/ZScale&gt;&lt;MOrigin&gt;-100000&lt;/MOrigin&gt;&lt;MScale&gt;10000&lt;/MScale&gt;&lt;XYTolerance&gt;0.001&lt;/XYTolerance&gt;&lt;ZTolerance&gt;0.001&lt;/ZTolerance&gt;&lt;MTolerance&gt;0.001&lt;/MTolerance&gt;&lt;HighPrecision&gt;true&lt;/HighPrecision&gt;&lt;/ProjectedCoordinateSystem&gt;</peXml></coordRef><RasterProperties><General><PixelDepth Sync="TRUE">8</PixelDepth><HasColormap Sync="TRUE">FALSE</HasColormap><CompressionType Sync="TRUE">LZW</CompressionType><NumBands Sync="TRUE">4</NumBands><Format Sync="TRUE">TIFF</Format><HasPyramids Sync="TRUE">FALSE</HasPyramids><SourceType Sync="TRUE">continuous</SourceType><PixelType Sync="TRUE">unsigned integer</PixelType><NoDataValue Sync="TRUE"></NoDataValue></General></RasterProperties><lineage><Process ToolSource="c:\program files (x86)\arcgis\desktop10.6\ArcToolbox\Toolboxes\Data Management Tools.tbx\CalculateStatistics" Date="20190226" Time="110022">CalculateStatistics X:\2018_NCMP_EC\products\CT\2018_NCMP_CT_RGBN\Blk_351\2018_NCMP_CT_18TXL2444_RGBN.tif 1 1 # OVERWRITE "Feature Set"</Process><Process ToolSource="c:\program files (x86)\arcgis\desktop10.6\ArcToolbox\Toolboxes\Data Management Tools.tbx\BuildPyramids" Date="20190226" Time="110139">BuildPyramids X:\2018_NCMP_EC\products\CT\2018_NCMP_CT_RGBN\Blk_351\2018_NCMP_CT_18TXL2444_RGBN.tif -1 NONE NEAREST DEFAULT 75 OVERWRITE</Process></lineage></DataProperties><scaleRange><minScale>150000000</minScale><maxScale>5000</maxScale></scaleRange><SyncDate>20190128</SyncDate><SyncTime>13380900</SyncTime><ModDate>20190128</ModDate><ModTime>13380900</ModTime></Esri><mdLang><languageCode value="eng"/><countryCode value="USA" Sync="TRUE"></countryCode></mdLang><mdChar><CharSetCd value="004"/></mdChar><mdHrLv><ScopeCd value="005"/></mdHrLv><mdContact><rpOrgName>JALBTCX</rpOrgName><role><RoleCd value="010"/></role><displayName>unknown</displayName><rpCntInfo><cntAddress><delPoint>Kiln, MS</delPoint></cntAddress></rpCntInfo><displayName>JALBTCX</displayName></mdContact><mdDateSt Sync="TRUE">20190128</mdDateSt><distInfo><distributor><distorOrdPrc><resFees>Requests for large amounts of data are shipped on an external hard drive. Costs include the shipping cost to return the hard drive to JALBTCX.</resFees></distorOrdPrc><distorCont><rpOrgName>JALBTCX</rpOrgName><rpPosName>Data Production Manager</rpPosName><role><RoleCd value="007"/></role><rpCntInfo><cntAddress addressType="both"><delPoint>7225 Stennis Airport Rd., STE 100</delPoint><city>Kiln</city><adminArea>MS</adminArea><postCode>39556</postCode><eMailAdd>JALBTCX@usace.army.mil</eMailAdd><country>US</country></cntAddress><cntPhone><voiceNum>228-252-1131</voiceNum><faxNum>228-252-1123</faxNum><voiceNum>228-252-1121</voiceNum></cntPhone><cntHours>8 am - 5 pm Monday through Friday</cntHours></rpCntInfo><displayName>JALBTCX</displayName></distorCont><distorFormat><formatName>IMG</formatName><fileDecmTech>no compression applied</fileDecmTech><formatInfo>spectral raster data</formatInfo></distorFormat></distributor><distFormat><formatName Sync="TRUE">Raster Dataset</formatName></distFormat></distInfo><dataIdInfo><idPurp>These data were collected as a part of the National Coastal Mapping Program (NCMP) to obtain Imagery of the existing conditions of the beach and near shore.</idPurp><idAbs>&lt;DIV STYLE="text-align:Left;"&gt;&lt;DIV&gt;&lt;DIV&gt;&lt;P&gt;&lt;SPAN&gt;The mosaic image contained in this file is comprised of multiple true color (RGB) images that were collected by the Coastal Zone Mapping and Imaging Lidar (CZMIL) system along the shoreline of Connecticut. CZMIL integrates a lidar sensor with topographic and bathymetric capabilities, an Leica RCD30 Digital camera, and a Itres' CASI-1500 hyperspectral imager on a single remote sensing platform for use in coastal mapping and charting activities. The Leica camera imagery was collected at an altitude of 400m or 2000m with a ground swath of 400m to 1500m and delivered with a resolution of 5cm to 20cm ground sample distance (GSD). Native RCD30 imagery data is not generally in a format accessible to most Geographic Information Systems (GIS). Specialized in-house and commercial software packages process the imagery data into GIS-compatible products for visualization and further analysis. Horizontal positions, projected in Universal Transverse Mercator (UTM), are referenced to the North American Datum of 1983 (NAD83 2011). Vertical positions are referenced to the NAD83 ellipsoid. Individual image frames have been rectified and mosaicked into blocks commensurate with the collection blocks. Delivered data has been clipped to boundaries of Military Grid Reference System (MGRS). The data file naming convention is based on the year, project, area name, clip boundary, and product type. These file have been separated and delivered by JALBTCX collection blocks. An example file name is "2018_NCMP_CT_18TXL2142_RGBN.tif", where 2018 is the year of data collection, NCMP is the Effort under which data were collected, CT is the area of data collection, the associated MGRS grid, and "RGBN" is the product type. In rare cases file names may include whether data was collected at a nominal range of high tide (HT) or low tide (LT). The supplementary files are of the same name.&lt;/SPAN&gt;&lt;/P&gt;&lt;/DIV&gt;&lt;/DIV&gt;&lt;/DIV&gt;</idAbs><idCitation><resTitle Sync="TRUE">2018_NCMP_CT_18TXL2444_RGBN.tif</resTitle><presForm><fgdcGeoform>raster digital data</fgdcGeoform><PresFormCd value="005"/></presForm><citRespParty><rpOrgName>U.S. Army Corps of Engineers (USACE), JALBTCX (Joint Airborne Lidar Bathymetry Technical Center of eXpertise)</rpOrgName><role><RoleCd value="006"/></role></citRespParty><citRespParty><rpOrgName>JALBTCX</rpOrgName><role><RoleCd value="010"/></role><displayName>unknown</displayName><rpCntInfo><cntAddress><delPoint>Kiln, MS</delPoint></cntAddress></rpCntInfo></citRespParty></idCitation><searchKeys><keyword>VERTICAL LOCATION &gt; LAND SURFACE</keyword><keyword>oceans</keyword><keyword>Bathymetry</keyword><keyword>Topography</keyword><keyword>Classified LAS</keyword><keyword>VERTICAL LOCATION &gt; SEA FLOOR</keyword><keyword>OCEANS &gt; BATHYMETRY/SEAFLOOR TOPOGRAPHY &gt; SEAFLOOR TOPOGRAPHY</keyword><keyword>OCEANS &gt; BATHYMETRY/SEAFLOOR TOPOGRAPHY &gt; BATHYMETRY</keyword><keyword>EARTH SCIENCE &gt; OCEANS &gt;COASTAL PROCESSES &gt; COASTAL ELEVATION</keyword><keyword>Joint Airborne Lidar Bathymetry Technical Center of eXpertise (JALBTCX)</keyword><keyword>SOLID EARTH &gt; GEOMORPHOLOGY &gt; COASTAL LANDFORMS/PROCESSES</keyword><keyword>imageryBaseMapsEarthCover</keyword><keyword>imageryBaseMapsEarthCover</keyword><keyword>elevation</keyword><keyword>Mobile District</keyword><keyword>United States</keyword><keyword>LIDAR &gt; LIGHT DETECTION AND RANGING</keyword><keyword>location</keyword><keyword>DOD/USARMY/USACE/SAM/MOBILE/OPJ/JALBTCX &gt; Department of Defense</keyword><keyword>United States Army</keyword><keyword>United States Army Corps of Engineers</keyword><keyword>Mobile District</keyword><keyword>Spatial Data Branch</keyword><keyword>Joint Airborne Lidar Bathymetry Technical Center of Expertise</keyword><keyword>IWG-OCM</keyword><keyword>OCEANS &gt; COASTAL PROCESSES &gt; COASTAL ELEVATION</keyword><keyword>LAND SURFACE &gt; TOPOGRAPHY&gt; TERRAIN ELEVATION</keyword><keyword>HUMAN DIMENSIONS &gt; LAND USE/LAND COVER &gt; LAND USE CLASSES</keyword><keyword>National Coastal Mapping Program (NCMP)</keyword><keyword>elevation</keyword><keyword>Connecticut</keyword><keyword>U.S. Army Corps of Engineers (USACE)</keyword><keyword>Coastal Zone Mapping Imaging Lidar (CZMIL)</keyword></searchKeys><resConst><Consts><useLimit>&lt;DIV STYLE="text-align:Left;"&gt;&lt;DIV&gt;&lt;DIV&gt;&lt;P&gt;&lt;SPAN&gt;These data depict the imagery at the time of the survey and are only accurate for that time. Acknowledgement of the Joint Airborne Lidar Bathymetry Technical Center of eXpertise (JALBTCX) would be appreciated in any publications or derived products. These data have been developed from the best available sources. Although efforts have been made to ensure that the data are accurate and reliable, errors and variable conditions originating from physical sources used to develop the data may be reflected in the data supplied. Users must be aware of these conditions and bear responsibility for the appropriate use of the information with respect to possible errors, scale, resolution, rectification, positional accuracy, development methodology, time period, environmental and climatic conditions and other circumstances specific to these data. The user is responsible for understanding the accuracy limitations of the data provided herein. The burden for determining fitness for use lies entirely with the user. The user should refer to the accompanying metadata notes for a description of the data and data development procedures.&lt;/SPAN&gt;&lt;/P&gt;&lt;/DIV&gt;&lt;/DIV&gt;&lt;/DIV&gt;</useLimit><useLimit>&lt;DIV STYLE="text-align:Left;"&gt;&lt;DIV&gt;&lt;DIV&gt;&lt;P&gt;&lt;SPAN&gt;These data have been developed from the best available sources. Although efforts have been made to ensure that the data are accurate and reliable, errors and variable conditions originating from physical sources used to develop the data may be reflected in the data supplied. Users must be aware of these conditions and bear responsibility for the appropriate use of the information with respect to possible errors, scale, resolution, rectification, positional accuracy, development methodology, time period, environmental and climatic conditions and other circumstances specific to these data. The user is responsible for understanding the accuracy limitations of the data provided herein. The burden for determining fitness for use lies entirely with the user. The user should refer to the accompanying metadata notes for a description of the data and data development procedures.&lt;/SPAN&gt;&lt;/P&gt;&lt;/DIV&gt;&lt;/DIV&gt;&lt;/DIV&gt;</useLimit></Consts></resConst><themeKeys><thesaName><resTitle>GCMD Earth Sciences Keywords v7</resTitle></thesaName><keyword>OCEANS &gt; BATHYMETRY/SEAFLOOR TOPOGRAPHY &gt; SEAFLOOR TOPOGRAPHY</keyword><keyword>OCEANS &gt; BATHYMETRY/SEAFLOOR TOPOGRAPHY &gt; BATHYMETRY</keyword><keyword>EARTH SCIENCE &gt; OCEANS &gt;COASTAL PROCESSES &gt; COASTAL ELEVATION</keyword><keyword>SOLID EARTH &gt; GEOMORPHOLOGY &gt; COASTAL LANDFORMS/PROCESSES</keyword><keyword>OCEANS &gt; COASTAL PROCESSES &gt; COASTAL ELEVATION</keyword><keyword>LAND SURFACE &gt; TOPOGRAPHY&gt; TERRAIN ELEVATION</keyword><keyword>HUMAN DIMENSIONS &gt; LAND USE/LAND COVER &gt; LAND USE CLASSES</keyword></themeKeys><themeKeys><thesaName><resTitle>ISO 19115 Topic Categories</resTitle></thesaName><keyword>imageryBaseMapsEarthCover</keyword><keyword>location</keyword><keyword>elevation</keyword></themeKeys><themeKeys><keyword>Bathymetry</keyword><keyword>Topography</keyword><keyword>Imagery</keyword><keyword>Classified LAS</keyword><keyword>Joint Airborne Lidar Bathymetry Technical Center of eXpertise (JALBTCX)</keyword><keyword>Mobile District</keyword><keyword>IWG-OCM</keyword><keyword>National Coastal Mapping Program (NCMP)</keyword><keyword>U.S. Army Corps of Engineers (USACE)</keyword><keyword>Coastal Zone Mapping Imaging Lidar (CZMIL)</keyword></themeKeys><themeKeys><thesaName><resTitle>ISO 19115 Topic Category</resTitle></thesaName><keyword>oceans</keyword><keyword>imageryBaseMapsEarthCover</keyword><keyword>elevation</keyword></themeKeys><themeKeys><thesaName><resTitle>GCMD Data Center Keywords v7</resTitle></thesaName><keyword>DOD/USARMY/USACE/SAM/MOBILE/OPJ/JALBTCX &gt; Department of Defense</keyword><keyword>United States Army</keyword><keyword>United States Army Corps of Engineers</keyword><keyword>Mobile District</keyword><keyword>Spatial Data Branch</keyword><keyword>Joint Airborne Lidar Bathymetry Technical Center of Expertise</keyword></themeKeys><themeKeys><thesaName><resTitle>GCMD Instrument Keywords v7</resTitle></thesaName><keyword>LIDAR &gt; LIGHT DETECTION AND RANGING</keyword><keyword>PASSIVE REMOTE SENSING &gt; PHOTON/OPTICAL DETECTORS &gt; CAMERAS</keyword></themeKeys><placeKeys><thesaName><resTitle>GCMD Location Keywords v7</resTitle></thesaName><keyword>VERTICAL LOCATION &gt; LAND SURFACE</keyword><keyword>VERTICAL LOCATION &gt; SEA FLOOR</keyword></placeKeys><placeKeys><thesaName><resTitle>Geographic Names Information System</resTitle></thesaName><keyword>United States</keyword><keyword>Connecticut</keyword></placeKeys><dataLang><languageCode value="eng"/><countryCode value="USA" Sync="TRUE"></countryCode></dataLang><dataChar><CharSetCd value="004"/></dataChar><envirDesc Sync="TRUE">Microsoft Windows 7 Version 6.1 (Build 7601) Service Pack 1; Esri ArcGIS 10.2.2.3552</envirDesc><idStatus><ProgCd value="001"/></idStatus><dataExt><geoEle><GeoBndBox><westBL>-82.7</westBL><eastBL>-79.572</eastBL><southBL>24.175</southBL><northBL>30.88</northBL></GeoBndBox></geoEle></dataExt><dataExt><exDesc>ground condition</exDesc><tempEle><TempExtent><exTemp><TM_Period><tmBegin>2018-06-10T20:07:00</tmBegin><tmEnd>2018-06-10T20:25:47</tmEnd></TM_Period></exTemp></TempExtent></tempEle><geoEle/></dataExt><idPoC><rpOrgName>JALBTCX</rpOrgName><rpPosName>Data Production Manager</rpPosName><role><RoleCd value="007"/></role><rpCntInfo><cntAddress addressType="both"><delPoint>7225 Stennis Airport Rd., STE 100</delPoint><city>Kiln</city><adminArea>MS</adminArea><postCode>39556</postCode><eMailAdd>JALBTCX@usace.army.mil</eMailAdd><country>US</country></cntAddress><cntPhone><voiceNum>228-252-1131</voiceNum><faxNum>228-252-1123</faxNum><voiceNum>228-252-1121</voiceNum></cntPhone><cntHours>8 am - 5 pm Monday through Friday</cntHours></rpCntInfo></idPoC><idPoC><rpOrgName>JALBTCX</rpOrgName><role><RoleCd value="010"/></role><displayName>unknown</displayName><rpCntInfo><cntAddress><delPoint>Kiln, MS</delPoint></cntAddress></rpCntInfo><displayName>JALBTCX</displayName></idPoC><resMaint><maintFreq><MaintFreqCd value="009"/></maintFreq></resMaint><resConst><LegConsts><useLimit>These data have been developed from the best available sources. Although efforts have been made to ensure that the data are accurate and reliable, errors and variable conditions originating from physical sources used to develop the data may be reflected in the data supplied. Users must be aware of these conditions and bear responsibility for the appropriate use of the information with respect to possible errors, scale, resolution, rectification, positional accuracy, development methodology, time period, environmental and climatic conditions and other circumstances specific to these data. The user is responsible for understanding the accuracy limitations of the data provided herein. The burden for determining fitness for use lies entirely with the user. The user should refer to the accompanying metadata notes for a description of the data and data development procedures.</useLimit></LegConsts></resConst><tpCat><TopicCatCd value="006"/></tpCat><tpCat><TopicCatCd value="007"/></tpCat><tpCat><TopicCatCd value="013"/></tpCat><tpCat><TopicCatCd value="014"/></tpCat><spatRpType><SpatRepTypCd value="002" Sync="TRUE"></SpatRepTypCd></spatRpType><dataExt><geoEle><GeoBndBox esriExtentType="search"><exTypeCode Sync="TRUE">1</exTypeCode><westBL Sync="TRUE">-73.524772</westBL><eastBL Sync="TRUE">-73.512676</eastBL><northBL Sync="TRUE">41.046792</northBL><southBL Sync="TRUE">41.037634</southBL></GeoBndBox></geoEle></dataExt></dataIdInfo><mdMaint><maintFreq><MaintFreqCd value="011"/></maintFreq><maintCont><rpOrgName>JALBTCX</rpOrgName><role><RoleCd value="010"/></role><displayName>unknown</displayName><rpCntInfo><cntAddress><delPoint>Kiln, MS</delPoint></cntAddress></rpCntInfo><displayName>JALBTCX</displayName></maintCont></mdMaint><dqInfo><dqScope><scpLvl><ScopeCd value="005"/></scpLvl></dqScope><report type="DQConcConsis"><measDesc>During inspection and QC of the true color imagery data, flightline to flightline accuracies met the CZMIL sensor specifications.</measDesc></report><report type="DQCompOm"><measDesc>This data set covers the spatial extent of true color imagery data obtained during this survey.</measDesc></report><report type="DQQuanAttAcc"><measDesc>These data are not attributed.</measDesc><evalMethDesc>These data are not attributed.</evalMethDesc><measResult><QuanResult><quanVal>None</quanVal></QuanResult></measResult></report><report type="DQAbsExtPosAcc" dimension="horizontal"><measDesc>The data positions were obtained using post processed KGPS methods. The horizontal accuracy of the true color imagery operation is ±1 m, 2 σ.  Gross offsets in imagery data may be due to DEM affects or unforseen timing offsets caused by missed or unknown camera trigger times.</measDesc></report><dataLineage><prcStep><stepDesc>These data were collected using a Leica RCD30 Digital Camera owned by the USACE Army Corps of Engineers Joint Airborne Lidar Bathymetry Technical Center of eXpertise (JALBTCX) and operated through contract.  The RCD30 is a high quality, 60MP digital frame camera.  All raw data streams were transferred to the office for downloading and processing.  Leica's FramePro software was used to develop and in some cases color-balance the raw data into unrectified true color JPEG format images.  All Iimage timing, position and rotational information was stored in Exterior Orientation (EO) file.  The exterior orientation file along with the developed JPG or TIF images and CZMIL Lidar based DEM were ingested into SimActive Correletor 3D. "SimActive’s Correlator3D™ software is a patented end-to-end photogrammetry solution for the generation of high-quality geospatial data from satellite and aerial imagery, including UAVs. Correlator3D™ performs aerial triangulation (AT) and produces dense digital surface models (DSM), digital terrain models (DTM), point clouds, orthomosaics and vectorized 3D features. Powered by GPU technology and multi-core CPUs, Correlator3D™ ensures matchless processing power to support rapid production of large datasets." Correlator 3D uses computer vision algorithms to refine the positional and rotational information of each frame relative to the surrouding frames. The result is a seamless, accurate, color balanced and tiled image mosaic.  Tiles were generated from MGRS grids.  The final mosaics were QA/QC ArcMAP.  </stepDesc><stepDateTm>2017-10-19T00:00:00</stepDateTm></prcStep></dataLineage></dqInfo><mdHrLvName Sync="TRUE">dataset</mdHrLvName><refSysInfo><RefSystem><refSysID><identCode code="0" Sync="TRUE"></identCode></refSysID></RefSystem></refSysInfo><spatRepInfo><Georect><cellGeo><CellGeoCd Sync="TRUE" value="002"></CellGeoCd></cellGeo><numDims Sync="TRUE">2</numDims><tranParaAv Sync="TRUE">1</tranParaAv><chkPtAv Sync="TRUE">0</chkPtAv><cornerPts><pos Sync="TRUE">624000.000000 4544000.000000</pos></cornerPts><cornerPts><pos Sync="TRUE">624000.000000 4545000.000000</pos></cornerPts><cornerPts><pos Sync="TRUE">625000.000000 4545000.000000</pos></cornerPts><cornerPts><pos Sync="TRUE">625000.000000 4544000.000000</pos></cornerPts><centerPt><pos Sync="TRUE">624500.000000 4544500.000000</pos></centerPt><axisDimension type="002"><dimSize Sync="TRUE">20000</dimSize><dimResol><value Sync="TRUE" uom="Meter">0.050000</value></dimResol></axisDimension><axisDimension type="001"><dimSize Sync="TRUE">20000</dimSize><dimResol><value Sync="TRUE" uom="Meter">0.050000</value></dimResol></axisDimension><ptInPixel><PixOrientCd Sync="TRUE" value="001"></PixOrientCd></ptInPixel></Georect></spatRepInfo><contInfo><ImgDesc><contentTyp><ContentTypCd Sync="TRUE" value="001"></ContentTypCd></contentTyp><covDim><Band><dimDescrp Sync="TRUE">Band_1</dimDescrp><bitsPerVal Sync="TRUE">8</bitsPerVal><valUnit><UOM type="length"></UOM></valUnit></Band><Band><dimDescrp Sync="TRUE">Band_2</dimDescrp><bitsPerVal Sync="TRUE">8</bitsPerVal><valUnit><UOM type="length"></UOM></valUnit></Band><Band><dimDescrp Sync="TRUE">Band_3</dimDescrp><bitsPerVal Sync="TRUE">8</bitsPerVal><valUnit><UOM type="length"></UOM></valUnit></Band><Band><dimDescrp Sync="TRUE">Band_4</dimDescrp><bitsPerVal Sync="TRUE">8</bitsPerVal><valUnit><UOM type="length"></UOM></valUnit></Band></covDim></ImgDesc></contInfo></metadata>
