0.5000
0.0000
0.0000
-0.5000
1239900.2500
705399.7500
