0.5000
0.0000
0.0000
-0.5000
1193500.2500
759299.7500
