0.5000
0.0000
0.0000
-0.5000
1181900.2500
697699.7500
