0.5000
0.0000
0.0000
-0.5000
1152900.2500
705399.7500
