0.5000
0.0000
0.0000
-0.5000
1100700.2500
689999.7500
