0.5000
0.0000
0.0000
-0.5000
1083300.2500
728499.7500
