0.5000
0.0000
0.0000
-0.5000
1048500.2500
766999.7500
