0.5000
0.0000
0.0000
-0.5000
1042700.2500
666899.7500
