0.5000
0.0000
0.0000
-0.5000
1036900.2500
944099.7500
