0.5000
0.0000
0.0000
-0.5000
1036900.2500
920999.7500
