0.5000
0.0000
0.0000
-0.5000
1031100.2500
674599.7500
