0.5000
0.0000
0.0000
-0.5000
1025300.2500
897899.7500
