0.5000
0.0000
0.0000
-0.5000
1019500.2500
859399.7500
