0.5000
0.0000
0.0000
-0.5000
1013700.2500
843999.7500
