0.5000
0.0000
0.0000
-0.5000
1007900.2500
659199.7500
