0.5000
0.0000
0.0000
-0.5000
932500.2500
682299.7500
