0.5000
0.0000
0.0000
-0.5000
909300.2500
674599.7500
