0.5000
0.0000
0.0000
-0.5000
903500.2500
659199.7500
