0.5000
0.0000
0.0000
-0.5000
886100.2500
612999.7500
