0.5000
0.0000
0.0000
-0.5000
874500.2500
643799.7500
