0.5000
0.0000
0.0000
-0.5000
868700.2500
628399.7500
