0.5000
0.0000
0.0000
-0.5000
862900.2500
605299.7500
