0.5000
0.0000
0.0000
-0.5000
839700.2500
605299.7500
