0.5000
0.0000
0.0000
-0.5000
804900.2500
582199.7500
