0.5000
0.0000
0.0000
-0.5000
775900.2500
574499.7500
