0.5000
0.0000
0.0000
-0.5000
752700.2500
566799.7500
