0.5000
0.0000
0.0000
-0.5000
746900.2500
559099.7500
