0.3
0
0
-0.3
369000.15
4277999.85
