0.3
0
0
-0.3
357000.15
4295999.85
