0.25000000000000
0.00000000000000
0.00000000000000
-0.25000000000000
429000.125000
4367999.875000
