0.25000000000000
0.00000000000000
0.00000000000000
-0.25000000000000
420000.125000
4373999.875000
