0.25000000000000
0.00000000000000
0.00000000000000
-0.25000000000000
417000.125000
4379999.875000
