0.25000000000000
0.00000000000000
0.00000000000000
-0.25000000000000
411000.125000
4376999.875000
