0.25000000000000
0.00000000000000
0.00000000000000
-0.25000000000000
393000.125000
4343999.875000
