0.25000000000000
0.00000000000000
0.00000000000000
-0.25000000000000
414000.125000
4388999.875000
