0.25000000000000
0.00000000000000
0.00000000000000
-0.25000000000000
408000.125000
4364999.875000
