0.25000000000000
0.00000000000000
0.00000000000000
-0.25000000000000
405000.125000
4361999.875000
