0.25000000000000
0.00000000000000
0.00000000000000
-0.25000000000000
402000.125000
4358999.875000
