0.25000000000000
0.00000000000000
0.00000000000000
-0.25000000000000
396000.125000
4346999.875000
