<VRTDataset rasterXSize="72040" rasterYSize="72040"> <SRS dataAxisToSRSAxisMapping="1,2">PROJCS["NAD83(2011) / UTM zone 11N",GEOGCS["NAD83(2011)",DATUM["NAD83_National_Spatial_Reference_System_2011",SPHEROID["GRS 1980",6378137,298.257222101,AUTHORITY["EPSG","7019"]],AUTHORITY["EPSG","1116"]],PRIMEM["Greenwich",0,AUTHORITY["EPSG","8901"]],UNIT["degree",0.0174532925199433,AUTHORITY["EPSG","9122"]],AUTHORITY["EPSG","6318"]],PROJECTION["Transverse_Mercator"],PARAMETER["latitude_of_origin",0],PARAMETER["central_meridian",-117],PARAMETER["scale_factor",0.9996],PARAMETER["false_easting",500000],PARAMETER["false_northing",0],UNIT["metre",1,AUTHORITY["EPSG","9001"]],AXIS["Easting",EAST],AXIS["Northing",NORTH],AUTHORITY["EPSG","6340"]]</SRS> <GeoTransform> 4.5299500000000000e+05, 2.5000000000000000e-01, 0.0000000000000000e+00, 3.6840050000000000e+06, 0.0000000000000000e+00, -2.5000000000000000e-01</GeoTransform> <VRTRasterBand dataType="Byte" band="1"> <ColorInterp>Red</ColorInterp> <SimpleSource> <SourceFilename relativeToVRT="1">./468000e3678000n.tif</SourceFilename> <SourceBand>1</SourceBand> <SourceProperties RasterXSize="12040" RasterYSize="12040" DataType="Byte" BlockXSize="512" BlockYSize="512" /> <SrcRect xOff="0" yOff="0" xSize="12040" ySize="12040" /> <DstRect xOff="60000" yOff="24000" xSize="12040" ySize="12040" /> </SimpleSource> <SimpleSource> <SourceFilename relativeToVRT="1">./453000e3675000n.tif</SourceFilename> <SourceBand>1</SourceBand> <SourceProperties RasterXSize="12040" RasterYSize="12040" DataType="Byte" BlockXSize="512" BlockYSize="512" /> <SrcRect xOff="0" yOff="0" xSize="12040" ySize="12040" /> <DstRect xOff="0" yOff="36000" xSize="12040" ySize="12040" /> </SimpleSource> <SimpleSource> <SourceFilename relativeToVRT="1">./453000e3678000n.tif</SourceFilename> <SourceBand>1</SourceBand> <SourceProperties RasterXSize="12040" RasterYSize="12040" DataType="Byte" BlockXSize="512" BlockYSize="512" /> <SrcRect xOff="0" yOff="0" xSize="12040" ySize="12040" /> <DstRect xOff="0" yOff="24000" xSize="12040" ySize="12040" /> </SimpleSource> <SimpleSource> <SourceFilename relativeToVRT="1">./456000e3675000n.tif</SourceFilename> <SourceBand>1</SourceBand> <SourceProperties RasterXSize="12040" RasterYSize="12040" DataType="Byte" BlockXSize="512" BlockYSize="512" /> <SrcRect xOff="0" yOff="0" xSize="12040" ySize="12040" /> <DstRect xOff="12000" yOff="36000" xSize="12040" ySize="12040" /> </SimpleSource> <SimpleSource> <SourceFilename relativeToVRT="1">./456000e3678000n.tif</SourceFilename> <SourceBand>1</SourceBand> <SourceProperties RasterXSize="12040" RasterYSize="12040" DataType="Byte" BlockXSize="512" BlockYSize="512" /> <SrcRect xOff="0" yOff="0" xSize="12040" ySize="12040" /> <DstRect xOff="12000" yOff="24000" xSize="12040" ySize="12040" /> </SimpleSource> <SimpleSource> <SourceFilename relativeToVRT="1">./456000e3681000n.tif</SourceFilename> <SourceBand>1</SourceBand> <SourceProperties RasterXSize="12040" RasterYSize="12040" DataType="Byte" BlockXSize="512" BlockYSize="512" /> <SrcRect xOff="0" yOff="0" xSize="12040" ySize="12040" /> <DstRect xOff="12000" yOff="12000" xSize="12040" ySize="12040" /> </SimpleSource> <SimpleSource> <SourceFilename relativeToVRT="1">./459000e3675000n.tif</SourceFilename> <SourceBand>1</SourceBand> <SourceProperties RasterXSize="12040" RasterYSize="12040" DataType="Byte" BlockXSize="512" BlockYSize="512" /> <SrcRect xOff="0" yOff="0" xSize="12040" ySize="12040" /> <DstRect xOff="24000" yOff="36000" xSize="12040" ySize="12040" /> </SimpleSource> <SimpleSource> <SourceFilename relativeToVRT="1">./459000e3678000n.tif</SourceFilename> <SourceBand>1</SourceBand> <SourceProperties RasterXSize="12040" RasterYSize="12040" DataType="Byte" BlockXSize="512" BlockYSize="512" /> <SrcRect xOff="0" yOff="0" xSize="12040" ySize="12040" /> <DstRect xOff="24000" yOff="24000" xSize="12040" ySize="12040" /> </SimpleSource> <SimpleSource> <SourceFilename relativeToVRT="1">./459000e3681000n.tif</SourceFilename> <SourceBand>1</SourceBand> <SourceProperties RasterXSize="12040" RasterYSize="12040" DataType="Byte" BlockXSize="512" BlockYSize="512" /> <SrcRect xOff="0" yOff="0" xSize="12040" ySize="12040" /> <DstRect xOff="24000" yOff="12000" xSize="12040" ySize="12040" /> </SimpleSource> <SimpleSource> <SourceFilename relativeToVRT="1">./459000e3684000n.tif</SourceFilename> <SourceBand>1</SourceBand> <SourceProperties RasterXSize="12040" RasterYSize="12040" DataType="Byte" BlockXSize="512" BlockYSize="512" /> <SrcRect xOff="0" yOff="0" xSize="12040" ySize="12040" /> <DstRect xOff="24000" yOff="0" xSize="12040" ySize="12040" /> </SimpleSource> <SimpleSource> <SourceFilename relativeToVRT="1">./462000e3672000n.tif</SourceFilename> <SourceBand>1</SourceBand> <SourceProperties RasterXSize="12040" RasterYSize="12040" DataType="Byte" BlockXSize="512" BlockYSize="512" /> <SrcRect xOff="0" yOff="0" xSize="12040" ySize="12040" /> <DstRect xOff="36000" yOff="48000" xSize="12040" ySize="12040" /> </SimpleSource> <SimpleSource> <SourceFilename relativeToVRT="1">./462000e3675000n.tif</SourceFilename> <SourceBand>1</SourceBand> <SourceProperties RasterXSize="12040" RasterYSize="12040" DataType="Byte" BlockXSize="512" BlockYSize="512" /> <SrcRect xOff="0" yOff="0" xSize="12040" ySize="12040" /> <DstRect xOff="36000" yOff="36000" xSize="12040" ySize="12040" /> </SimpleSource> <SimpleSource> <SourceFilename relativeToVRT="1">./462000e3678000n.tif</SourceFilename> <SourceBand>1</SourceBand> <SourceProperties RasterXSize="12040" RasterYSize="12040" DataType="Byte" BlockXSize="512" BlockYSize="512" /> <SrcRect xOff="0" yOff="0" xSize="12040" ySize="12040" /> <DstRect xOff="36000" yOff="24000" xSize="12040" ySize="12040" /> </SimpleSource> <SimpleSource> <SourceFilename relativeToVRT="1">./462000e3681000n.tif</SourceFilename> <SourceBand>1</SourceBand> <SourceProperties RasterXSize="12040" RasterYSize="12040" DataType="Byte" BlockXSize="512" BlockYSize="512" /> <SrcRect xOff="0" yOff="0" xSize="12040" ySize="12040" /> <DstRect xOff="36000" yOff="12000" xSize="12040" ySize="12040" /> </SimpleSource> <SimpleSource> <SourceFilename relativeToVRT="1">./465000e3669000n.tif</SourceFilename> <SourceBand>1</SourceBand> <SourceProperties RasterXSize="12040" RasterYSize="12040" DataType="Byte" BlockXSize="512" BlockYSize="512" /> <SrcRect xOff="0" yOff="0" xSize="12040" ySize="12040" /> <DstRect xOff="48000" yOff="60000" xSize="12040" ySize="12040" /> </SimpleSource> <SimpleSource> <SourceFilename relativeToVRT="1">./465000e3672000n.tif</SourceFilename> <SourceBand>1</SourceBand> <SourceProperties RasterXSize="12040" RasterYSize="12040" DataType="Byte" BlockXSize="512" BlockYSize="512" /> <SrcRect xOff="0" yOff="0" xSize="12040" ySize="12040" /> <DstRect xOff="48000" yOff="48000" xSize="12040" ySize="12040" /> </SimpleSource> <SimpleSource> <SourceFilename relativeToVRT="1">./465000e3675000n.tif</SourceFilename> <SourceBand>1</SourceBand> <SourceProperties RasterXSize="12040" RasterYSize="12040" DataType="Byte" BlockXSize="512" BlockYSize="512" /> <SrcRect xOff="0" yOff="0" xSize="12040" ySize="12040" /> <DstRect xOff="48000" yOff="36000" xSize="12040" ySize="12040" /> </SimpleSource> <SimpleSource> <SourceFilename relativeToVRT="1">./465000e3678000n.tif</SourceFilename> <SourceBand>1</SourceBand> <SourceProperties RasterXSize="12040" RasterYSize="12040" DataType="Byte" BlockXSize="512" BlockYSize="512" /> <SrcRect xOff="0" yOff="0" xSize="12040" ySize="12040" /> <DstRect xOff="48000" yOff="24000" xSize="12040" ySize="12040" /> </SimpleSource> <SimpleSource> <SourceFilename relativeToVRT="1">./468000e3669000n.tif</SourceFilename> <SourceBand>1</SourceBand> <SourceProperties RasterXSize="12040" RasterYSize="12040" DataType="Byte" BlockXSize="512" BlockYSize="512" /> <SrcRect xOff="0" yOff="0" xSize="12040" ySize="12040" /> <DstRect xOff="60000" yOff="60000" xSize="12040" ySize="12040" /> </SimpleSource> <SimpleSource> <SourceFilename relativeToVRT="1">./468000e3672000n.tif</SourceFilename> <SourceBand>1</SourceBand> <SourceProperties RasterXSize="12040" RasterYSize="12040" DataType="Byte" BlockXSize="512" BlockYSize="512" /> <SrcRect xOff="0" yOff="0" xSize="12040" ySize="12040" /> <DstRect xOff="60000" yOff="48000" xSize="12040" ySize="12040" /> </SimpleSource> <SimpleSource> <SourceFilename relativeToVRT="1">./468000e3675000n.tif</SourceFilename> <SourceBand>1</SourceBand> <SourceProperties RasterXSize="12040" RasterYSize="12040" DataType="Byte" BlockXSize="512" BlockYSize="512" /> <SrcRect xOff="0" yOff="0" xSize="12040" ySize="12040" /> <DstRect xOff="60000" yOff="36000" xSize="12040" ySize="12040" /> </SimpleSource> </VRTRasterBand> <VRTRasterBand dataType="Byte" band="2"> <ColorInterp>Green</ColorInterp> <SimpleSource> <SourceFilename relativeToVRT="1">./468000e3678000n.tif</SourceFilename> <SourceBand>2</SourceBand> <SourceProperties RasterXSize="12040" RasterYSize="12040" DataType="Byte" BlockXSize="512" BlockYSize="512" /> <SrcRect xOff="0" yOff="0" xSize="12040" ySize="12040" /> <DstRect xOff="60000" yOff="24000" xSize="12040" ySize="12040" /> </SimpleSource> <SimpleSource> <SourceFilename relativeToVRT="1">./453000e3675000n.tif</SourceFilename> <SourceBand>2</SourceBand> <SourceProperties RasterXSize="12040" RasterYSize="12040" DataType="Byte" BlockXSize="512" BlockYSize="512" /> <SrcRect xOff="0" yOff="0" xSize="12040" ySize="12040" /> <DstRect xOff="0" yOff="36000" xSize="12040" ySize="12040" /> </SimpleSource> <SimpleSource> <SourceFilename relativeToVRT="1">./453000e3678000n.tif</SourceFilename> <SourceBand>2</SourceBand> <SourceProperties RasterXSize="12040" RasterYSize="12040" DataType="Byte" BlockXSize="512" BlockYSize="512" /> <SrcRect xOff="0" yOff="0" xSize="12040" ySize="12040" /> <DstRect xOff="0" yOff="24000" xSize="12040" ySize="12040" /> </SimpleSource> <SimpleSource> <SourceFilename relativeToVRT="1">./456000e3675000n.tif</SourceFilename> <SourceBand>2</SourceBand> <SourceProperties RasterXSize="12040" RasterYSize="12040" DataType="Byte" BlockXSize="512" BlockYSize="512" /> <SrcRect xOff="0" yOff="0" xSize="12040" ySize="12040" /> <DstRect xOff="12000" yOff="36000" xSize="12040" ySize="12040" /> </SimpleSource> <SimpleSource> <SourceFilename relativeToVRT="1">./456000e3678000n.tif</SourceFilename> <SourceBand>2</SourceBand> <SourceProperties RasterXSize="12040" RasterYSize="12040" DataType="Byte" BlockXSize="512" BlockYSize="512" /> <SrcRect xOff="0" yOff="0" xSize="12040" ySize="12040" /> <DstRect xOff="12000" yOff="24000" xSize="12040" ySize="12040" /> </SimpleSource> <SimpleSource> <SourceFilename relativeToVRT="1">./456000e3681000n.tif</SourceFilename> <SourceBand>2</SourceBand> <SourceProperties RasterXSize="12040" RasterYSize="12040" DataType="Byte" BlockXSize="512" BlockYSize="512" /> <SrcRect xOff="0" yOff="0" xSize="12040" ySize="12040" /> <DstRect xOff="12000" yOff="12000" xSize="12040" ySize="12040" /> </SimpleSource> <SimpleSource> <SourceFilename relativeToVRT="1">./459000e3675000n.tif</SourceFilename> <SourceBand>2</SourceBand> <SourceProperties RasterXSize="12040" RasterYSize="12040" DataType="Byte" BlockXSize="512" BlockYSize="512" /> <SrcRect xOff="0" yOff="0" xSize="12040" ySize="12040" /> <DstRect xOff="24000" yOff="36000" xSize="12040" ySize="12040" /> </SimpleSource> <SimpleSource> <SourceFilename relativeToVRT="1">./459000e3678000n.tif</SourceFilename> <SourceBand>2</SourceBand> <SourceProperties RasterXSize="12040" RasterYSize="12040" DataType="Byte" BlockXSize="512" BlockYSize="512" /> <SrcRect xOff="0" yOff="0" xSize="12040" ySize="12040" /> <DstRect xOff="24000" yOff="24000" xSize="12040" ySize="12040" /> </SimpleSource> <SimpleSource> <SourceFilename relativeToVRT="1">./459000e3681000n.tif</SourceFilename> <SourceBand>2</SourceBand> <SourceProperties RasterXSize="12040" RasterYSize="12040" DataType="Byte" BlockXSize="512" BlockYSize="512" /> <SrcRect xOff="0" yOff="0" xSize="12040" ySize="12040" /> <DstRect xOff="24000" yOff="12000" xSize="12040" ySize="12040" /> </SimpleSource> <SimpleSource> <SourceFilename relativeToVRT="1">./459000e3684000n.tif</SourceFilename> <SourceBand>2</SourceBand> <SourceProperties RasterXSize="12040" RasterYSize="12040" DataType="Byte" BlockXSize="512" BlockYSize="512" /> <SrcRect xOff="0" yOff="0" xSize="12040" ySize="12040" /> <DstRect xOff="24000" yOff="0" xSize="12040" ySize="12040" /> </SimpleSource> <SimpleSource> <SourceFilename relativeToVRT="1">./462000e3672000n.tif</SourceFilename> <SourceBand>2</SourceBand> <SourceProperties RasterXSize="12040" RasterYSize="12040" DataType="Byte" BlockXSize="512" BlockYSize="512" /> <SrcRect xOff="0" yOff="0" xSize="12040" ySize="12040" /> <DstRect xOff="36000" yOff="48000" xSize="12040" ySize="12040" /> </SimpleSource> <SimpleSource> <SourceFilename relativeToVRT="1">./462000e3675000n.tif</SourceFilename> <SourceBand>2</SourceBand> <SourceProperties RasterXSize="12040" RasterYSize="12040" DataType="Byte" BlockXSize="512" BlockYSize="512" /> <SrcRect xOff="0" yOff="0" xSize="12040" ySize="12040" /> <DstRect xOff="36000" yOff="36000" xSize="12040" ySize="12040" /> </SimpleSource> <SimpleSource> <SourceFilename relativeToVRT="1">./462000e3678000n.tif</SourceFilename> <SourceBand>2</SourceBand> <SourceProperties RasterXSize="12040" RasterYSize="12040" DataType="Byte" BlockXSize="512" BlockYSize="512" /> <SrcRect xOff="0" yOff="0" xSize="12040" ySize="12040" /> <DstRect xOff="36000" yOff="24000" xSize="12040" ySize="12040" /> </SimpleSource> <SimpleSource> <SourceFilename relativeToVRT="1">./462000e3681000n.tif</SourceFilename> <SourceBand>2</SourceBand> <SourceProperties RasterXSize="12040" RasterYSize="12040" DataType="Byte" BlockXSize="512" BlockYSize="512" /> <SrcRect xOff="0" yOff="0" xSize="12040" ySize="12040" /> <DstRect xOff="36000" yOff="12000" xSize="12040" ySize="12040" /> </SimpleSource> <SimpleSource> <SourceFilename relativeToVRT="1">./465000e3669000n.tif</SourceFilename> <SourceBand>2</SourceBand> <SourceProperties RasterXSize="12040" RasterYSize="12040" DataType="Byte" BlockXSize="512" BlockYSize="512" /> <SrcRect xOff="0" yOff="0" xSize="12040" ySize="12040" /> <DstRect xOff="48000" yOff="60000" xSize="12040" ySize="12040" /> </SimpleSource> <SimpleSource> <SourceFilename relativeToVRT="1">./465000e3672000n.tif</SourceFilename> <SourceBand>2</SourceBand> <SourceProperties RasterXSize="12040" RasterYSize="12040" DataType="Byte" BlockXSize="512" BlockYSize="512" /> <SrcRect xOff="0" yOff="0" xSize="12040" ySize="12040" /> <DstRect xOff="48000" yOff="48000" xSize="12040" ySize="12040" /> </SimpleSource> <SimpleSource> <SourceFilename relativeToVRT="1">./465000e3675000n.tif</SourceFilename> <SourceBand>2</SourceBand> <SourceProperties RasterXSize="12040" RasterYSize="12040" DataType="Byte" BlockXSize="512" BlockYSize="512" /> <SrcRect xOff="0" yOff="0" xSize="12040" ySize="12040" /> <DstRect xOff="48000" yOff="36000" xSize="12040" ySize="12040" /> </SimpleSource> <SimpleSource> <SourceFilename relativeToVRT="1">./465000e3678000n.tif</SourceFilename> <SourceBand>2</SourceBand> <SourceProperties RasterXSize="12040" RasterYSize="12040" DataType="Byte" BlockXSize="512" BlockYSize="512" /> <SrcRect xOff="0" yOff="0" xSize="12040" ySize="12040" /> <DstRect xOff="48000" yOff="24000" xSize="12040" ySize="12040" /> </SimpleSource> <SimpleSource> <SourceFilename relativeToVRT="1">./468000e3669000n.tif</SourceFilename> <SourceBand>2</SourceBand> <SourceProperties RasterXSize="12040" RasterYSize="12040" DataType="Byte" BlockXSize="512" BlockYSize="512" /> <SrcRect xOff="0" yOff="0" xSize="12040" ySize="12040" /> <DstRect xOff="60000" yOff="60000" xSize="12040" ySize="12040" /> </SimpleSource> <SimpleSource> <SourceFilename relativeToVRT="1">./468000e3672000n.tif</SourceFilename> <SourceBand>2</SourceBand> <SourceProperties RasterXSize="12040" RasterYSize="12040" DataType="Byte" BlockXSize="512" BlockYSize="512" /> <SrcRect xOff="0" yOff="0" xSize="12040" ySize="12040" /> <DstRect xOff="60000" yOff="48000" xSize="12040" ySize="12040" /> </SimpleSource> <SimpleSource> <SourceFilename relativeToVRT="1">./468000e3675000n.tif</SourceFilename> <SourceBand>2</SourceBand> <SourceProperties RasterXSize="12040" RasterYSize="12040" DataType="Byte" BlockXSize="512" BlockYSize="512" /> <SrcRect xOff="0" yOff="0" xSize="12040" ySize="12040" /> <DstRect xOff="60000" yOff="36000" xSize="12040" ySize="12040" /> </SimpleSource> </VRTRasterBand> <VRTRasterBand dataType="Byte" band="3"> <ColorInterp>Blue</ColorInterp> <SimpleSource> <SourceFilename relativeToVRT="1">./468000e3678000n.tif</SourceFilename> <SourceBand>3</SourceBand> <SourceProperties RasterXSize="12040" RasterYSize="12040" DataType="Byte" BlockXSize="512" BlockYSize="512" /> <SrcRect xOff="0" yOff="0" xSize="12040" ySize="12040" /> <DstRect xOff="60000" yOff="24000" xSize="12040" ySize="12040" /> </SimpleSource> <SimpleSource> <SourceFilename relativeToVRT="1">./453000e3675000n.tif</SourceFilename> <SourceBand>3</SourceBand> <SourceProperties RasterXSize="12040" RasterYSize="12040" DataType="Byte" BlockXSize="512" BlockYSize="512" /> <SrcRect xOff="0" yOff="0" xSize="12040" ySize="12040" /> <DstRect xOff="0" yOff="36000" xSize="12040" ySize="12040" /> </SimpleSource> <SimpleSource> <SourceFilename relativeToVRT="1">./453000e3678000n.tif</SourceFilename> <SourceBand>3</SourceBand> <SourceProperties RasterXSize="12040" RasterYSize="12040" DataType="Byte" BlockXSize="512" BlockYSize="512" /> <SrcRect xOff="0" yOff="0" xSize="12040" ySize="12040" /> <DstRect xOff="0" yOff="24000" xSize="12040" ySize="12040" /> </SimpleSource> <SimpleSource> <SourceFilename relativeToVRT="1">./456000e3675000n.tif</SourceFilename> <SourceBand>3</SourceBand> <SourceProperties RasterXSize="12040" RasterYSize="12040" DataType="Byte" BlockXSize="512" BlockYSize="512" /> <SrcRect xOff="0" yOff="0" xSize="12040" ySize="12040" /> <DstRect xOff="12000" yOff="36000" xSize="12040" ySize="12040" /> </SimpleSource> <SimpleSource> <SourceFilename relativeToVRT="1">./456000e3678000n.tif</SourceFilename> <SourceBand>3</SourceBand> <SourceProperties RasterXSize="12040" RasterYSize="12040" DataType="Byte" BlockXSize="512" BlockYSize="512" /> <SrcRect xOff="0" yOff="0" xSize="12040" ySize="12040" /> <DstRect xOff="12000" yOff="24000" xSize="12040" ySize="12040" /> </SimpleSource> <SimpleSource> <SourceFilename relativeToVRT="1">./456000e3681000n.tif</SourceFilename> <SourceBand>3</SourceBand> <SourceProperties RasterXSize="12040" RasterYSize="12040" DataType="Byte" BlockXSize="512" BlockYSize="512" /> <SrcRect xOff="0" yOff="0" xSize="12040" ySize="12040" /> <DstRect xOff="12000" yOff="12000" xSize="12040" ySize="12040" /> </SimpleSource> <SimpleSource> <SourceFilename relativeToVRT="1">./459000e3675000n.tif</SourceFilename> <SourceBand>3</SourceBand> <SourceProperties RasterXSize="12040" RasterYSize="12040" DataType="Byte" BlockXSize="512" BlockYSize="512" /> <SrcRect xOff="0" yOff="0" xSize="12040" ySize="12040" /> <DstRect xOff="24000" yOff="36000" xSize="12040" ySize="12040" /> </SimpleSource> <SimpleSource> <SourceFilename relativeToVRT="1">./459000e3678000n.tif</SourceFilename> <SourceBand>3</SourceBand> <SourceProperties RasterXSize="12040" RasterYSize="12040" DataType="Byte" BlockXSize="512" BlockYSize="512" /> <SrcRect xOff="0" yOff="0" xSize="12040" ySize="12040" /> <DstRect xOff="24000" yOff="24000" xSize="12040" ySize="12040" /> </SimpleSource> <SimpleSource> <SourceFilename relativeToVRT="1">./459000e3681000n.tif</SourceFilename> <SourceBand>3</SourceBand> <SourceProperties RasterXSize="12040" RasterYSize="12040" DataType="Byte" BlockXSize="512" BlockYSize="512" /> <SrcRect xOff="0" yOff="0" xSize="12040" ySize="12040" /> <DstRect xOff="24000" yOff="12000" xSize="12040" ySize="12040" /> </SimpleSource> <SimpleSource> <SourceFilename relativeToVRT="1">./459000e3684000n.tif</SourceFilename> <SourceBand>3</SourceBand> <SourceProperties RasterXSize="12040" RasterYSize="12040" DataType="Byte" BlockXSize="512" BlockYSize="512" /> <SrcRect xOff="0" yOff="0" xSize="12040" ySize="12040" /> <DstRect xOff="24000" yOff="0" xSize="12040" ySize="12040" /> </SimpleSource> <SimpleSource> <SourceFilename relativeToVRT="1">./462000e3672000n.tif</SourceFilename> <SourceBand>3</SourceBand> <SourceProperties RasterXSize="12040" RasterYSize="12040" DataType="Byte" BlockXSize="512" BlockYSize="512" /> <SrcRect xOff="0" yOff="0" xSize="12040" ySize="12040" /> <DstRect xOff="36000" yOff="48000" xSize="12040" ySize="12040" /> </SimpleSource> <SimpleSource> <SourceFilename relativeToVRT="1">./462000e3675000n.tif</SourceFilename> <SourceBand>3</SourceBand> <SourceProperties RasterXSize="12040" RasterYSize="12040" DataType="Byte" BlockXSize="512" BlockYSize="512" /> <SrcRect xOff="0" yOff="0" xSize="12040" ySize="12040" /> <DstRect xOff="36000" yOff="36000" xSize="12040" ySize="12040" /> </SimpleSource> <SimpleSource> <SourceFilename relativeToVRT="1">./462000e3678000n.tif</SourceFilename> <SourceBand>3</SourceBand> <SourceProperties RasterXSize="12040" RasterYSize="12040" DataType="Byte" BlockXSize="512" BlockYSize="512" /> <SrcRect xOff="0" yOff="0" xSize="12040" ySize="12040" /> <DstRect xOff="36000" yOff="24000" xSize="12040" ySize="12040" /> </SimpleSource> <SimpleSource> <SourceFilename relativeToVRT="1">./462000e3681000n.tif</SourceFilename> <SourceBand>3</SourceBand> <SourceProperties RasterXSize="12040" RasterYSize="12040" DataType="Byte" BlockXSize="512" BlockYSize="512" /> <SrcRect xOff="0" yOff="0" xSize="12040" ySize="12040" /> <DstRect xOff="36000" yOff="12000" xSize="12040" ySize="12040" /> </SimpleSource> <SimpleSource> <SourceFilename relativeToVRT="1">./465000e3669000n.tif</SourceFilename> <SourceBand>3</SourceBand> <SourceProperties RasterXSize="12040" RasterYSize="12040" DataType="Byte" BlockXSize="512" BlockYSize="512" /> <SrcRect xOff="0" yOff="0" xSize="12040" ySize="12040" /> <DstRect xOff="48000" yOff="60000" xSize="12040" ySize="12040" /> </SimpleSource> <SimpleSource> <SourceFilename relativeToVRT="1">./465000e3672000n.tif</SourceFilename> <SourceBand>3</SourceBand> <SourceProperties RasterXSize="12040" RasterYSize="12040" DataType="Byte" BlockXSize="512" BlockYSize="512" /> <SrcRect xOff="0" yOff="0" xSize="12040" ySize="12040" /> <DstRect xOff="48000" yOff="48000" xSize="12040" ySize="12040" /> </SimpleSource> <SimpleSource> <SourceFilename relativeToVRT="1">./465000e3675000n.tif</SourceFilename> <SourceBand>3</SourceBand> <SourceProperties RasterXSize="12040" RasterYSize="12040" DataType="Byte" BlockXSize="512" BlockYSize="512" /> <SrcRect xOff="0" yOff="0" xSize="12040" ySize="12040" /> <DstRect xOff="48000" yOff="36000" xSize="12040" ySize="12040" /> </SimpleSource> <SimpleSource> <SourceFilename relativeToVRT="1">./465000e3678000n.tif</SourceFilename> <SourceBand>3</SourceBand> <SourceProperties RasterXSize="12040" RasterYSize="12040" DataType="Byte" BlockXSize="512" BlockYSize="512" /> <SrcRect xOff="0" yOff="0" xSize="12040" ySize="12040" /> <DstRect xOff="48000" yOff="24000" xSize="12040" ySize="12040" /> </SimpleSource> <SimpleSource> <SourceFilename relativeToVRT="1">./468000e3669000n.tif</SourceFilename> <SourceBand>3</SourceBand> <SourceProperties RasterXSize="12040" RasterYSize="12040" DataType="Byte" BlockXSize="512" BlockYSize="512" /> <SrcRect xOff="0" yOff="0" xSize="12040" ySize="12040" /> <DstRect xOff="60000" yOff="60000" xSize="12040" ySize="12040" /> </SimpleSource> <SimpleSource> <SourceFilename relativeToVRT="1">./468000e3672000n.tif</SourceFilename> <SourceBand>3</SourceBand> <SourceProperties RasterXSize="12040" RasterYSize="12040" DataType="Byte" BlockXSize="512" BlockYSize="512" /> <SrcRect xOff="0" yOff="0" xSize="12040" ySize="12040" /> <DstRect xOff="60000" yOff="48000" xSize="12040" ySize="12040" /> </SimpleSource> <SimpleSource> <SourceFilename relativeToVRT="1">./468000e3675000n.tif</SourceFilename> <SourceBand>3</SourceBand> <SourceProperties RasterXSize="12040" RasterYSize="12040" Da