0.2000000000
0.0000000000
0.0000000000
-0.2000000000
490164.1000000000
6290325.9000000004
