0.2000000000
0.0000000000
0.0000000000
-0.2000000000
520164.1000000000
6292325.9000000004
