0.2000000000
0.0000000000
0.0000000000
-0.2000000000
508164.1000000000
6293325.9000000004
